BEGIN:VCALENDAR
VERSION:2.0
PRODID:-//Beerhouses - ECPv6.15.17.1//NONSGML v1.0//EN
CALSCALE:GREGORIAN
METHOD:PUBLISH
X-ORIGINAL-URL:https://beerhouses.co.uk
X-WR-CALDESC:Events for Beerhouses
REFRESH-INTERVAL;VALUE=DURATION:PT1H
X-Robots-Tag:noindex
X-PUBLISHED-TTL:PT1H
BEGIN:VTIMEZONE
TZID:Europe/London
BEGIN:DAYLIGHT
TZOFFSETFROM:+0000
TZOFFSETTO:+0100
TZNAME:BST
DTSTART:20240331T010000
END:DAYLIGHT
BEGIN:STANDARD
TZOFFSETFROM:+0100
TZOFFSETTO:+0000
TZNAME:GMT
DTSTART:20241027T010000
END:STANDARD
BEGIN:DAYLIGHT
TZOFFSETFROM:+0000
TZOFFSETTO:+0100
TZNAME:BST
DTSTART:20250330T010000
END:DAYLIGHT
BEGIN:STANDARD
TZOFFSETFROM:+0100
TZOFFSETTO:+0000
TZNAME:GMT
DTSTART:20251026T010000
END:STANDARD
BEGIN:DAYLIGHT
TZOFFSETFROM:+0000
TZOFFSETTO:+0100
TZNAME:BST
DTSTART:20260329T010000
END:DAYLIGHT
BEGIN:STANDARD
TZOFFSETFROM:+0100
TZOFFSETTO:+0000
TZNAME:GMT
DTSTART:20261025T010000
END:STANDARD
END:VTIMEZONE
BEGIN:VEVENT
DTSTART;TZID=Europe/London:20250801T200000
DTEND;TZID=Europe/London:20250801T230000
DTSTAMP:20260424T223229
CREATED:20250401T190055Z
LAST-MODIFIED:20260313T141911Z
UID:232351-1754078400-1754089200@beerhouses.co.uk
SUMMARY:Storm Live On Platform 3
DESCRIPTION:Get ready to Rock on Platform 3 with STORM!!
URL:https://beerhouses.co.uk/event/storm-live-on-platform-3/
LOCATION:West Riding
CATEGORIES:Live on Platform 3,West Riding
ATTACH;FMTTYPE=image/jpeg:https://beerhouses.co.uk/wp-content/uploads/2025/08/Storm-band.jpg
END:VEVENT
BEGIN:VEVENT
DTSTART;TZID=Europe/London:20250809T200000
DTEND;TZID=Europe/London:20250809T200000
DTSTAMP:20260424T223229
CREATED:20250404T130742Z
LAST-MODIFIED:20250404T140659Z
UID:232378-1754769600-1754769600@beerhouses.co.uk
SUMMARY:Holy Suns Live On Platform 3
DESCRIPTION:Holy Suns hit Platform 3 with a high-voltage set of rock classics\, covering legends like Thin Lizzy\, AC/DC\, Black Sabbath\, Motley Crue\, Queen and more. Expect roaring riffs\, big vocals\, and nonstop energy from start to finish.
URL:https://beerhouses.co.uk/event/holy-suns-live-on-platform-3/
CATEGORIES:Live on Platform 3,West Riding
ATTACH;FMTTYPE=image/png:https://beerhouses.co.uk/wp-content/uploads/2025/04/clipped.png
END:VEVENT
BEGIN:VEVENT
DTSTART;TZID=Europe/London:20250824T160000
DTEND;TZID=Europe/London:20250824T160000
DTSTAMP:20260424T223229
CREATED:20250404T131401Z
LAST-MODIFIED:20250404T140534Z
UID:232381-1756051200-1756051200@beerhouses.co.uk
SUMMARY:Chequered Past Bank Holiday Sunday Live on Platform 3
DESCRIPTION:Chequered Past are back on Platform 3 Ska bringing you an afternoon of  Mod and new wave music
URL:https://beerhouses.co.uk/event/chequered-past-bank-holiday-sunday-live-on-platform-3/
CATEGORIES:Live on Platform 3,West Riding
ATTACH;FMTTYPE=image/jpeg:https://beerhouses.co.uk/wp-content/uploads/2025/03/Chequered-Past.jpg
END:VEVENT
END:VCALENDAR