BEGIN:VCALENDAR
VERSION:2.0
PRODID:-//Beerhouses - ECPv6.15.17.1//NONSGML v1.0//EN
CALSCALE:GREGORIAN
METHOD:PUBLISH
X-ORIGINAL-URL:https://beerhouses.co.uk
X-WR-CALDESC:Events for Beerhouses
REFRESH-INTERVAL;VALUE=DURATION:PT1H
X-Robots-Tag:noindex
X-PUBLISHED-TTL:PT1H
BEGIN:VTIMEZONE
TZID:Europe/London
BEGIN:DAYLIGHT
TZOFFSETFROM:+0000
TZOFFSETTO:+0100
TZNAME:BST
DTSTART:20230326T010000
END:DAYLIGHT
BEGIN:STANDARD
TZOFFSETFROM:+0100
TZOFFSETTO:+0000
TZNAME:GMT
DTSTART:20231029T010000
END:STANDARD
BEGIN:DAYLIGHT
TZOFFSETFROM:+0000
TZOFFSETTO:+0100
TZNAME:BST
DTSTART:20240331T010000
END:DAYLIGHT
BEGIN:STANDARD
TZOFFSETFROM:+0100
TZOFFSETTO:+0000
TZNAME:GMT
DTSTART:20241027T010000
END:STANDARD
BEGIN:DAYLIGHT
TZOFFSETFROM:+0000
TZOFFSETTO:+0100
TZNAME:BST
DTSTART:20250330T010000
END:DAYLIGHT
BEGIN:STANDARD
TZOFFSETFROM:+0100
TZOFFSETTO:+0000
TZNAME:GMT
DTSTART:20251026T010000
END:STANDARD
END:VTIMEZONE
BEGIN:VEVENT
DTSTART;TZID=Europe/London:20240414T140000
DTEND;TZID=Europe/London:20240414T180000
DTSTAMP:20260424T122649
CREATED:20240228T165428Z
LAST-MODIFIED:20240301T160225Z
UID:777-1713103200-1713117600@beerhouses.co.uk
SUMMARY:Step Back! An afternoon of vintage music and dance
DESCRIPTION:Following the success of our last Step Back vintage event in September\, we’re set to boogie-woogie again on 14th April.\n\nJoin us for an afternoon of vintage music and dance with singer Natasha Harper\, DJ Major Swing & Kitty\, and swing band\, The Vintage Sounds! \n\nThis is a FREE EVENT and open to all. Previous Step Back events have all been amazing and they get bigger every time. So\, get yourselves down here for a fabulous afternoon of live music and dancing (dancing is optional!).\n\nDelicious food from Scran & Sup will also be on the menu 
URL:https://beerhouses.co.uk/event/step-back-an-afternoon-of-vintage-music-and-dance/
LOCATION:West Riding
CATEGORIES:West Riding
ATTACH;FMTTYPE=image/png:https://beerhouses.co.uk/wp-content/uploads/2024/02/Step-Back-event-140424-16-9.png
END:VEVENT
BEGIN:VEVENT
DTSTART;TZID=Europe/London:20240427T150000
DTEND;TZID=Europe/London:20240427T170000
DTSTAMP:20260424T122649
CREATED:20240301T152158Z
LAST-MODIFIED:20240301T170800Z
UID:782-1714230000-1714237200@beerhouses.co.uk
SUMMARY:Saturday Social: Flock of 3 + Chris Dover
DESCRIPTION:We are back with our special series of quality blues entertainment for Platform 3\, Dewsbury. Monthly Saturday Socials at the ace West Riding in association with Huddersfield Blues Club. First up: \n\n\n\nFLOCK OF 3\n\n\n\n“Flock of 3 are a funky rocky BLUES POWER TRIO from Huddersfield. We sometimes think of ourselves as a ‘bakers trio’ and flirt with keyboards! We play a variation of styles of music including songs from the following artists: Stevie Ray Vaughan\, Robben Ford\, John Mayer\, Robin Trower\, Cream\, Hendrix\, Bill Withers\, Ray Charles\, Chris Duarte\, Allman Bros\, BB\, and plenty of others” \n\n\n\nCHRIS DOVER\n\n\nChris Dover is an Americana singer/songwriter based in Bradford. Formerly the front man for Alt country band Hoodoo Operators\, his influences cover everything from Robert Johnson and Guy Clark\, to current artists like Foy Vance. His live show is a very intimate window into his life be it love\, depression or loss\, that will resonate with any fan of classic storytelling.
URL:https://beerhouses.co.uk/event/saturday-socials-flock-of-3-chris-dover/
LOCATION:West Riding
CATEGORIES:Blues Music,Saturday Social,West Riding
ATTACH;FMTTYPE=image/png:https://beerhouses.co.uk/wp-content/uploads/2024/03/Flock-of-3-16-9.png
END:VEVENT
END:VCALENDAR