BEGIN:VCALENDAR
VERSION:2.0
PRODID:-//Beerhouses - ECPv6.15.17.1//NONSGML v1.0//EN
CALSCALE:GREGORIAN
METHOD:PUBLISH
X-WR-CALNAME:Beerhouses
X-ORIGINAL-URL:https://beerhouses.co.uk
X-WR-CALDESC:Events for Beerhouses
REFRESH-INTERVAL;VALUE=DURATION:PT1H
X-Robots-Tag:noindex
X-PUBLISHED-TTL:PT1H
BEGIN:VTIMEZONE
TZID:Europe/London
BEGIN:DAYLIGHT
TZOFFSETFROM:+0000
TZOFFSETTO:+0100
TZNAME:BST
DTSTART:20240331T010000
END:DAYLIGHT
BEGIN:STANDARD
TZOFFSETFROM:+0100
TZOFFSETTO:+0000
TZNAME:GMT
DTSTART:20241027T010000
END:STANDARD
BEGIN:DAYLIGHT
TZOFFSETFROM:+0000
TZOFFSETTO:+0100
TZNAME:BST
DTSTART:20250330T010000
END:DAYLIGHT
BEGIN:STANDARD
TZOFFSETFROM:+0100
TZOFFSETTO:+0000
TZNAME:GMT
DTSTART:20251026T010000
END:STANDARD
BEGIN:DAYLIGHT
TZOFFSETFROM:+0000
TZOFFSETTO:+0100
TZNAME:BST
DTSTART:20260329T010000
END:DAYLIGHT
BEGIN:STANDARD
TZOFFSETFROM:+0100
TZOFFSETTO:+0000
TZNAME:GMT
DTSTART:20261025T010000
END:STANDARD
END:VTIMEZONE
BEGIN:VEVENT
DTSTART;TZID=Europe/London:20250201T140000
DTEND;TZID=Europe/London:20250201T230000
DTSTAMP:20260420T071644
CREATED:20241028T130803Z
LAST-MODIFIED:20241126T162428Z
UID:1182-1738418400-1738450800@beerhouses.co.uk
SUMMARY:Old Turkey III
DESCRIPTION:Old Turkey III bringing the cream of local music to The Terrace for our 3rd annual event. 6 bands\, DJ and drinks offers to shake off the January blues! Part of our Independent Venue Week programme. \nThe line up:\nZapiain\nRillington Place\nAgoniser\nThe Exotic Ices Project\nReight Twang\nEl Toro Loco
URL:https://beerhouses.co.uk/event/old-turkey-iii/
LOCATION:The Terrace\, 31 Wellington Road\, Dewsbury\, WF13 1HL\, United Kingdom
CATEGORIES:Independent Venue Week,Indie,Indie Pop and Rock,Rock Music,The Terrace
ATTACH;FMTTYPE=image/jpeg:https://beerhouses.co.uk/wp-content/uploads/2024/10/Old-Turkey-for-event.jpg
END:VEVENT
END:VCALENDAR