BEGIN:VCALENDAR
VERSION:2.0
PRODID:-//Beerhouses - ECPv6.15.17.1//NONSGML v1.0//EN
CALSCALE:GREGORIAN
METHOD:PUBLISH
X-ORIGINAL-URL:https://beerhouses.co.uk
X-WR-CALDESC:Events for Beerhouses
REFRESH-INTERVAL;VALUE=DURATION:PT1H
X-Robots-Tag:noindex
X-PUBLISHED-TTL:PT1H
BEGIN:VTIMEZONE
TZID:Europe/London
BEGIN:DAYLIGHT
TZOFFSETFROM:+0000
TZOFFSETTO:+0100
TZNAME:BST
DTSTART:20230326T010000
END:DAYLIGHT
BEGIN:STANDARD
TZOFFSETFROM:+0100
TZOFFSETTO:+0000
TZNAME:GMT
DTSTART:20231029T010000
END:STANDARD
BEGIN:DAYLIGHT
TZOFFSETFROM:+0000
TZOFFSETTO:+0100
TZNAME:BST
DTSTART:20240331T010000
END:DAYLIGHT
BEGIN:STANDARD
TZOFFSETFROM:+0100
TZOFFSETTO:+0000
TZNAME:GMT
DTSTART:20241027T010000
END:STANDARD
BEGIN:DAYLIGHT
TZOFFSETFROM:+0000
TZOFFSETTO:+0100
TZNAME:BST
DTSTART:20250330T010000
END:DAYLIGHT
BEGIN:STANDARD
TZOFFSETFROM:+0100
TZOFFSETTO:+0000
TZNAME:GMT
DTSTART:20251026T010000
END:STANDARD
END:VTIMEZONE
BEGIN:VEVENT
DTSTART;TZID=Europe/London:20240329T180000
DTEND;TZID=Europe/London:20240330T000000
DTSTAMP:20260425T125812
CREATED:20240118T154721Z
LAST-MODIFIED:20240318T110202Z
UID:617-1711735200-1711756800@beerhouses.co.uk
SUMMARY:An Evening with Allister Whitehead
DESCRIPTION:More accustomed to playing superclubs like Cream\, Ministry of Sound\, and Gatecrasher\, Allister Whitehead will be playing intimate venue\, The Terrace in Dewsbury for one night only. \nOne of the UK’s most prolific house DJs\, Allister started out with a residency at the Koolkat in Nottingham but got his big break at the Hacienda in Manchester at the height of its infamy in the 90s. \nStill selling out large capacity clubs all over the world\, as well as releasing his own material\, this is a rare opportunity to see this superstar DJ in such an intimate venue in a small West Yorkshire town (though The Terrace is fast growing its reputation as a destination for house and dance music). \nBUY TICKETS\n\nTHIS EVENT IS NOW SOLD OUT. Follow the Skiddle link to join the waiting list.
URL:https://beerhouses.co.uk/event/an-evening-with-allister-whitehead/
LOCATION:The Terrace\, 31 Wellington Road\, Dewsbury\, WF13 1HL\, United Kingdom
CATEGORIES:DJ Club Night,House Music,The Terrace
ATTACH;FMTTYPE=image/png:https://beerhouses.co.uk/wp-content/uploads/2024/01/AW_Poster_V3-square-500px-sold-out.png
END:VEVENT
END:VCALENDAR