BEGIN:VCALENDAR
VERSION:2.0
PRODID:-//Beerhouses - ECPv6.15.17.1//NONSGML v1.0//EN
CALSCALE:GREGORIAN
METHOD:PUBLISH
X-ORIGINAL-URL:https://beerhouses.co.uk
X-WR-CALDESC:Events for Beerhouses
REFRESH-INTERVAL;VALUE=DURATION:PT1H
X-Robots-Tag:noindex
X-PUBLISHED-TTL:PT1H
BEGIN:VTIMEZONE
TZID:Europe/London
BEGIN:DAYLIGHT
TZOFFSETFROM:+0000
TZOFFSETTO:+0100
TZNAME:BST
DTSTART:20230326T010000
END:DAYLIGHT
BEGIN:STANDARD
TZOFFSETFROM:+0100
TZOFFSETTO:+0000
TZNAME:GMT
DTSTART:20231029T010000
END:STANDARD
BEGIN:DAYLIGHT
TZOFFSETFROM:+0000
TZOFFSETTO:+0100
TZNAME:BST
DTSTART:20240331T010000
END:DAYLIGHT
BEGIN:STANDARD
TZOFFSETFROM:+0100
TZOFFSETTO:+0000
TZNAME:GMT
DTSTART:20241027T010000
END:STANDARD
BEGIN:DAYLIGHT
TZOFFSETFROM:+0000
TZOFFSETTO:+0100
TZNAME:BST
DTSTART:20250330T010000
END:DAYLIGHT
BEGIN:STANDARD
TZOFFSETFROM:+0100
TZOFFSETTO:+0000
TZNAME:GMT
DTSTART:20251026T010000
END:STANDARD
END:VTIMEZONE
BEGIN:VEVENT
DTSTART;TZID=Europe/London:20240127T180000
DTEND;TZID=Europe/London:20240127T230000
DTSTAMP:20260425T161333
CREATED:20240122T144511Z
LAST-MODIFIED:20240122T144511Z
UID:641-1706378400-1706396400@beerhouses.co.uk
SUMMARY:Old Turk-ey 2024
DESCRIPTION:Inspired by The Terrace’s former name and the timing after Christmas\, we bring you “Old Turk-ey”\, an annual live music extravaganza! \nAs with our first show\, we have Zapiain\, Mundi Club and El Toro Loco and this year we are adding 2 more local acts… \nJust £3.00 entry! \nBUY TICKETS
URL:https://beerhouses.co.uk/event/old-turk-ey-2024/
LOCATION:The Terrace\, 31 Wellington Road\, Dewsbury\, WF13 1HL\, United Kingdom
CATEGORIES:Indie Pop and Rock,Original Music
ATTACH;FMTTYPE=image/jpeg:https://beerhouses.co.uk/wp-content/uploads/2024/01/Old-Turkey-square-300px.jpg
END:VEVENT
END:VCALENDAR